Workbook

Sheet Движение
B2: ДВИЖЕНИЕ МАТЕРИАЛОВ НА СКЛАДЕ
B3: Журнал операций: приход, расход и инвентаризация. Остатки на листе «Остатки» считаются по журналу — вручную ничего переносить не нужно
B4: Заполняются только жёлтые поля. Колонки «Приход», «Расход» и «Корректировка» — служебные: по ним считаются остатки.
A11: Дата | B11: Документ | C11: Операция | D11: Номенклатура | E11: Ед. изм. | F11: Кол-во | G11: Цена, ₽ | H11: Сумма, ₽ | I11: Приход: кол-во | J11: Приход: сумма, ₽ | K11: Расход: кол-во | L11: Корректировка | M11: Примечание
A12: 46266 | B12: ПН-101 | C12: Приход | D12: Лист стальной 2 мм | E12: кг | F12: 1200 | G12: 78 | H12: =IF(AND($F12<>"",$G12<>""),ROUND($F12*$G12,2),"") | I12: =IF($C12="Приход",$F12,0) | J12: =IF($C12="Приход",$H12,0) | K12: =IF($C12="Расход",$F12,0) | L12: =IF($C12="Инвентаризация",$F12,0)
A13: 46267 | B13: ПН-102 | C13: Приход | D13: Труба профильная 40×40 | E13: м | F13: 480 | G13: 210 | H13: =IF(AND($F13<>"",$G13<>""),ROUND($F13*$G13,2),"") | I13: =IF($C13="Приход",$F13,0) | J13: =IF($C13="Приход",$H13,0) | K13: =IF($C13="Расход",$F13,0) | L13: =IF($C13="Инвентаризация",$F13,0)
A14: 46268 | B14: ПН-103 | C14: Приход | D14: Круг стальной Ø20 | E14: кг | F14: 620 | G14: 92 | H14: =IF(AND($F14<>"",$G14<>""),ROUND($F14*$G14,2),"") | I14: =IF($C14="Приход",$F14,0) | J14: =IF($C14="Приход",$H14,0) | K14: =IF($C14="Расход",$F14,0) | L14: =IF($C14="Инвентаризация",$F14,0)
A15: 46269 | B15: ПН-104 | C15: Приход | D15: Электроды УОНИ-13/55 | E15: кг | F15: 180 | G15: 320 | H15: =IF(AND($F15<>"",$G15<>""),ROUND($F15*$G15,2),"") | I15: =IF($C15="Приход",$F15,0) | J15: =IF($C15="Приход",$H15,0) | K15: =IF($C15="Расход",$F15,0) | L15: =IF($C15="Инвентаризация",$F15,0)
A16: 46270 | B16: ПН-105 | C16: Приход | D16: Грунт-эмаль по металлу | E16: кг | F16: 90 | G16: 410 | H16: =IF(AND($F16<>"",$G16<>""),ROUND($F16*$G16,2),"") | I16: =IF($C16="Приход",$F16,0) | J16: =IF($C16="Приход",$H16,0) | K16: =IF($C16="Расход",$F16,0) | L16: =IF($C16="Инвентаризация",$F16,0)
A17: 46273 | B17: РН-201 | C17: Расход | D17: Лист стальной 2 мм | E17: кг | F17: 940 | G17: 78 | H17: =IF(AND($F17<>"",$G17<>""),ROUND($F17*$G17,2),"") | I17: =IF($C17="Приход",$F17,0) | J17: =IF($C17="Приход",$H17,0) | K17: =IF($C17="Расход",$F17,0) | L17: =IF($C17="Инвентаризация",$F17,0)
A18: 46274 | B18: РН-202 | C18: Расход | D18: Труба профильная 40×40 | E18: м | F18: 380 | G18: 210 | H18: =IF(AND($F18<>"",$G18<>""),ROUND($F18*$G18,2),"") | I18: =IF($C18="Приход",$F18,0) | J18: =IF($C18="Приход",$H18,0) | K18: =IF($C18="Расход",$F18,0) | L18: =IF($C18="Инвентаризация",$F18,0)
A19: 46275 | B19: РН-203 | C19: Расход | D19: Круг стальной Ø20 | E19: кг | F19: 480 | G19: 92 | H19: =IF(AND($F19<>"",$G19<>""),ROUND($F19*$G19,2),"") | I19: =IF($C19="Приход",$F19,0) | J19: =IF($C19="Приход",$H19,0) | K19: =IF($C19="Расход",$F19,0) | L19: =IF($C19="Инвентаризация",$F19,0)
A20: 46276 | B20: РН-204 | C20: Расход | D20: Электроды УОНИ-13/55 | E20: кг | F20: 210 | G20: 320 | H20: =IF(AND($F20<>"",$G20<>""),ROUND($F20*$G20,2),"") | I20: =IF($C20="Приход",$F20,0) | J20: =IF($C20="Приход",$H20,0) | K20: =IF($C20="Расход",$F20,0) | L20: =IF($C20="Инвентаризация",$F20,0)
A21: 46277 | B21: РН-205 | C21: Расход | D21: Грунт-эмаль по металлу | E21: кг | F21: 72 | G21: 410 | H21: =IF(AND($F21<>"",$G21<>""),ROUND($F21*$G21,2),"") | I21: =IF($C21="Приход",$F21,0) | J21: =IF($C21="Приход",$H21,0) | K21: =IF($C21="Расход",$F21,0) | L21: =IF($C21="Инвентаризация",$F21,0)
A22: 46280 | B22: ИНВ-1 | C22: Инвентаризация | D22: Лист стальной 2 мм | E22: кг | F22: -12 | G22: 78 | H22: =IF(AND($F22<>"",$G22<>""),ROUND($F22*$G22,2),"") | I22: =IF($C22="Приход",$F22,0) | J22: =IF($C22="Приход",$H22,0) | K22: =IF($C22="Расход",$F22,0) | L22: =IF($C22="Инвентаризация",$F22,0)
A23: 46281 | B23: ПН-106 | C23: Приход | D23: Подшипник 6205 | E23: шт. | F23: 240 | G23: 145 | H23: =IF(AND($F23<>"",$G23<>""),ROUND($F23*$G23,2),"") | I23: =IF($C23="Приход",$F23,0) | J23: =IF($C23="Приход",$H23,0) | K23: =IF($C23="Расход",$F23,0) | L23: =IF($C23="Инвентаризация",$F23,0)
... A26: 46284 | B26: ПН-108 | C26: Приход | D26: Крепёж М8 (болт) | E26: шт. | F26: 1500 | G26: 12 | H26: =IF(AND($F26<>"",$G26<>""),ROUND($F26*$G26,2),"") | I26: =IF($C26="Приход",$F26,0) | J26: =IF($C26="Приход",$H26,0) | K26: =IF($C26="Расход",$F26,0) | L26: =IF($C26="Инвентаризация",$F26,0)
H27: =IF(AND($F27<>"",$G27<>""),ROUND($F27*$G27,2),"") | I27: =IF($C27="Приход",$F27,0) | J27: =IF($C27="Приход",$H27,0) | K27: =IF($C27="Расход",$F27,0) | L27: =IF($C27="Инвентаризация",$F27,0)
H28: =IF(AND($F28<>"",$G28<>""),ROUND($F28*$G28,2),"") | I28: =IF($C28="Приход",$F28,0) | J28: =IF($C28="Приход",$H28,0) | K28: =IF($C28="Расход",$F28,0) | L28: =IF($C28="Инвентаризация",$F28,0)
H29: =IF(AND($F29<>"",$G29<>""),ROUND($F29*$G29,2),"") | I29: =IF($C29="Приход",$F29,0) | J29: =IF($C29="Приход",$H29,0) | K29: =IF($C29="Расход",$F29,0) | L29: =IF($C29="Инвентаризация",$F29,0)
H30: =IF(AND($F30<>"",$G30<>""),ROUND($F30*$G30,2),"") | I30: =IF($C30="Приход",$F30,0) | J30: =IF($C30="Приход",$H30,0) | K30: =IF($C30="Расход",$F30,0) | L30: =IF($C30="Инвентаризация",$F30,0)
H31: =IF(AND($F31<>"",$G31<>""),ROUND($F31*$G31,2),"") | I31: =IF($C31="Приход",$F31,0) | J31: =IF($C31="Приход",$H31,0) | K31: =IF($C31="Расход",$F31,0) | L31: =IF($C31="Инвентаризация",$F31,0)
H32: =IF(AND($F32<>"",$G32<>""),ROUND($F32*$G32,2),"") | I32: =IF($C32="Приход",$F32,0) | J32: =IF($C32="Приход",$H32,0) | K32: =IF($C32="Расход",$F32,0) | L32: =IF($C32="Инвентаризация",$F32,0)
H33: =IF(AND($F33<>"",$G33<>""),ROUND($F33*$G33,2),"") | I33: =IF($C33="Приход",$F33,0) | J33: =IF($C33="Приход",$H33,0) | K33: =IF($C33="Расход",$F33,0) | L33: =IF($C33="Инвентаризация",$F33,0)
H34: =IF(AND($F34<>"",$G34<>""),ROUND($F34*$G34,2),"") | I34: =IF($C34="Приход",$F34,0) | J34: =IF($C34="Приход",$H34,0) | K34: =IF($C34="Расход",$F34,0) | L34: =IF($C34="Инвентаризация",$F34,0)
H35: =IF(AND($F35<>"",$G35<>""),ROUND($F35*$G35,2),"") | I35: =IF($C35="Приход",$F35,0) | J35: =IF($C35="Приход",$H35,0) | K35: =IF($C35="Расход",$F35,0) | L35: =IF($C35="Инвентаризация",$F35,0)
H36: =IF(AND($F36<>"",$G36<>""),ROUND($F36*$G36,2),"") | I36: =IF($C36="Приход",$F36,0) | J36: =IF($C36="Приход",$H36,0) | K36: =IF($C36="Расход",$F36,0) | L36: =IF($C36="Инвентаризация",$F36,0)
H37: =IF(AND($F37<>"",$G37<>""),ROUND($F37*$G37,2),"") | I37: =IF($C37="Приход",$F37,0) | J37: =IF($C37="Приход",$H37,0) | K37: =IF($C37="Расход",$F37,0) | L37: =IF($C37="Инвентаризация",$F37,0)
H38: =IF(AND($F38<>"",$G38<>""),ROUND($F38*$G38,2),"") | I38: =IF($C38="Приход",$F38,0) | J38: =IF($C38="Приход",$H38,0) | K38: =IF($C38="Расход",$F38,0) | L38: =IF($C38="Инвентаризация",$F38,0)
... H61: =IF(AND($F61<>"",$G61<>""),ROUND($F61*$G61,2),"") | I61: =IF($C61="Приход",$F61,0) | J61: =IF($C61="Приход",$H61,0) | K61: =IF($C61="Расход",$F61,0) | L61: =IF($C61="Инвентаризация",$F61,0)
D63: ИТОГО по журналу | H63: =ROUND(SUM($H$12:$H$61),2) | J63: =ROUND(SUM($J$12:$J$61),2) | M63: ="операций: "&COUNT($F$12:$F$61)
D65: Инвентаризация вносится разницей: плюс — излишек, минус — недостача. Так остаток после пересчёта получается сам, без правки прошлых документов.

Sheet Остатки
B2: ОСТАТКИ ПО НОМЕНКЛАТУРЕ
B3: Впишите номенклатуру и минимальный остаток — приход, расход, остаток и средняя цена посчитаются по журналу операций
B4: Статус сравнивает остаток с минимальным: «ниже минимума» — пора заказывать, «нет в наличии» — остаток нулевой или отрицательный
A11: № | B11: Номенклатура | C11: Ед. изм. | D11: Приход: кол-во | E11: Приход: сумма, ₽ | F11: Средняя цена, ₽ | G11: Расход: кол-во | H11: Корректировка | I11: Остаток | J11: Стоимость остатка, ₽ | K11: Минимум | L11: Статус | M11: Заказать
A12: 1 | B12: Лист стальной 2 мм | C12: кг | D12: =IF($B12="","",SUMIF(Движение!$D$12:$D$61,$B12,Движение!$I$12:$I$61)) | E12: =IF($B12="","",ROUND(SUMIF(Движение!$D$12:$D$61,$B12,Движение!$J$12:$J$61),2)) | F12: =IF(OR($B12="",$D12=0),"",ROUND($E12/$D12,2)) | G12: =IF($B12="","",SUMIF(Движение!$D$12:$D$61,$B12,Движение!$K$12:$K$61)) | H12: =IF($B12="","",SUMIF(Движение!$D$12:$D$61,$B12,Движение!$L$12:$L$61)) | I12: =IF($B12="","",ROUND($D12-$G12+$H12,3)) | J12: =IF(OR($B12="",$F12=""),"",ROUND($I12*$F12,2)) | K12: 500 | L12: =IF($B12="","",IF($I12<=0,"нет в наличии",IF($K12="","норма",IF($I12<$K12,"ниже минимума","норма")))) | M12: =IF(OR($B12="",$K12=""),"",IF(AND($I12<$K12,$K12>0),ROUND($K12-$I12,3),0))
A13: 2 | B13: Труба профильная 40×40 | C13: м | D13: =IF($B13="","",SUMIF(Движение!$D$12:$D$61,$B13,Движение!$I$12:$I$61)) | E13: =IF($B13="","",ROUND(SUMIF(Движение!$D$12:$D$61,$B13,Движение!$J$12:$J$61),2)) | F13: =IF(OR($B13="",$D13=0),"",ROUND($E13/$D13,2)) | G13: =IF($B13="","",SUMIF(Движение!$D$12:$D$61,$B13,Движение!$K$12:$K$61)) | H13: =IF($B13="","",SUMIF(Движение!$D$12:$D$61,$B13,Движение!$L$12:$L$61)) | I13: =IF($B13="","",ROUND($D13-$G13+$H13,3)) | J13: =IF(OR($B13="",$F13=""),"",ROUND($I13*$F13,2)) | K13: 200 | L13: =IF($B13="","",IF($I13<=0,"нет в наличии",IF($K13="","норма",IF($I13<$K13,"ниже минимума","норма")))) | M13: =IF(OR($B13="",$K13=""),"",IF(AND($I13<$K13,$K13>0),ROUND($K13-$I13,3),0))
A14: 3 | B14: Круг стальной Ø20 | C14: кг | D14: =IF($B14="","",SUMIF(Движение!$D$12:$D$61,$B14,Движение!$I$12:$I$61)) | E14: =IF($B14="","",ROUND(SUMIF(Движение!$D$12:$D$61,$B14,Движение!$J$12:$J$61),2)) | F14: =IF(OR($B14="",$D14=0),"",ROUND($E14/$D14,2)) | G14: =IF($B14="","",SUMIF(Движение!$D$12:$D$61,$B14,Движение!$K$12:$K$61)) | H14: =IF($B14="","",SUMIF(Движение!$D$12:$D$61,$B14,Движение!$L$12:$L$61)) | I14: =IF($B14="","",ROUND($D14-$G14+$H14,3)) | J14: =IF(OR($B14="",$F14=""),"",ROUND($I14*$F14,2)) | K14: 300 | L14: =IF($B14="","",IF($I14<=0,"нет в наличии",IF($K14="","норма",IF($I14<$K14,"ниже минимума","норма")))) | M14: =IF(OR($B14="",$K14=""),"",IF(AND($I14<$K14,$K14>0),ROUND($K14-$I14,3),0))
A15: 4 | B15: Электроды УОНИ-13/55 | C15: кг | D15: =IF($B15="","",SUMIF(Движение!$D$12:$D$61,$B15,Движение!$I$12:$I$61)) | E15: =IF($B15="","",ROUND(SUMIF(Движение!$D$12:$D$61,$B15,Движение!$J$12:$J$61),2)) | F15: =IF(OR($B15="",$D15=0),"",ROUND($E15/$D15,2)) | G15: =IF($B15="","",SUMIF(Движение!$D$12:$D$61,$B15,Движение!$K$12:$K$61)) | H15: =IF($B15="","",SUMIF(Движение!$D$12:$D$61,$B15,Движение!$L$12:$L$61)) | I15: =IF($B15="","",ROUND($D15-$G15+$H15,3)) | J15: =IF(OR($B15="",$F15=""),"",ROUND($I15*$F15,2)) | K15: 80 | L15: =IF($B15="","",IF($I15<=0,"нет в наличии",IF($K15="","норма",IF($I15<$K15,"ниже минимума","норма")))) | M15: =IF(OR($B15="",$K15=""),"",IF(AND($I15<$K15,$K15>0),ROUND($K15-$I15,3),0))
A16: 5 | B16: Грунт-эмаль по металлу | C16: кг | D16: =IF($B16="","",SUMIF(Движение!$D$12:$D$61,$B16,Движение!$I$12:$I$61)) | E16: =IF($B16="","",ROUND(SUMIF(Движение!$D$12:$D$61,$B16,Движение!$J$12:$J$61),2)) | F16: =IF(OR($B16="",$D16=0),"",ROUND($E16/$D16,2)) | G16: =IF($B16="","",SUMIF(Движение!$D$12:$D$61,$B16,Движение!$K$12:$K$61)) | H16: =IF($B16="","",SUMIF(Движение!$D$12:$D$61,$B16,Движение!$L$12:$L$61)) | I16: =IF($B16="","",ROUND($D16-$G16+$H16,3)) | J16: =IF(OR($B16="",$F16=""),"",ROUND($I16*$F16,2)) | K16: 40 | L16: =IF($B16="","",IF($I16<=0,"нет в наличии",IF($K16="","норма",IF($I16<$K16,"ниже минимума","норма")))) | M16: =IF(OR($B16="",$K16=""),"",IF(AND($I16<$K16,$K16>0),ROUND($K16-$I16,3),0))
A17: 6 | B17: Подшипник 6205 | C17: шт. | D17: =IF($B17="","",SUMIF(Движение!$D$12:$D$61,$B17,Движение!$I$12:$I$61)) | E17: =IF($B17="","",ROUND(SUMIF(Движение!$D$12:$D$61,$B17,Движение!$J$12:$J$61),2)) | F17: =IF(OR($B17="",$D17=0),"",ROUND($E17/$D17,2)) | G17: =IF($B17="","",SUMIF(Движение!$D$12:$D$61,$B17,Движение!$K$12:$K$61)) | H17: =IF($B17="","",SUMIF(Движение!$D$12:$D$61,$B17,Движение!$L$12:$L$61)) | I17: =IF($B17="","",ROUND($D17-$G17+$H17,3)) | J17: =IF(OR($B17="",$F17=""),"",ROUND($I17*$F17,2)) | K17: 100 | L17: =IF($B17="","",IF($I17<=0,"нет в наличии",IF($K17="","норма",IF($I17<$K17,"ниже минимума","норма")))) | M17: =IF(OR($B17="",$K17=""),"",IF(AND($I17<$K17,$K17>0),ROUND($K17-$I17,3),0))
A18: 7 | B18: Крепёж М8 (болт) | C18: шт. | D18: =IF($B18="","",SUMIF(Движение!$D$12:$D$61,$B18,Движение!$I$12:$I$61)) | E18: =IF($B18="","",ROUND(SUMIF(Движение!$D$12:$D$61,$B18,Движение!$J$12:$J$61),2)) | F18: =IF(OR($B18="",$D18=0),"",ROUND($E18/$D18,2)) | G18: =IF($B18="","",SUMIF(Движение!$D$12:$D$61,$B18,Движение!$K$12:$K$61)) | H18: =IF($B18="","",SUMIF(Движение!$D$12:$D$61,$B18,Движение!$L$12:$L$61)) | I18: =IF($B18="","",ROUND($D18-$G18+$H18,3)) | J18: =IF(OR($B18="",$F18=""),"",ROUND($I18*$F18,2)) | K18: 1000 | L18: =IF($B18="","",IF($I18<=0,"нет в наличии",IF($K18="","норма",IF($I18<$K18,"ниже минимума","норма")))) | M18: =IF(OR($B18="",$K18=""),"",IF(AND($I18<$K18,$K18>0),ROUND($K18-$I18,3),0))
A19: 8 | B19: Прокладка паронитовая | C19: шт. | D19: =IF($B19="","",SUMIF(Движение!$D$12:$D$61,$B19,Движение!$I$12:$I$61)) | E19: =IF($B19="","",ROUND(SUMIF(Движение!$D$12:$D$61,$B19,Движение!$J$12:$J$61),2)) | F19: =IF(OR($B19="",$D19=0),"",ROUND($E19/$D19,2)) | G19: =IF($B19="","",SUMIF(Движение!$D$12:$D$61,$B19,Движение!$K$12:$K$61)) | H19: =IF($B19="","",SUMIF(Движение!$D$12:$D$61,$B19,Движение!$L$12:$L$61)) | I19: =IF($B19="","",ROUND($D19-$G19+$H19,3)) | J19: =IF(OR($B19="",$F19=""),"",ROUND($I19*$F19,2)) | K19: 200 | L19: =IF($B19="","",IF($I19<=0,"нет в наличии",IF($K19="","норма",IF($I19<$K19,"ниже минимума","норма")))) | M19: =IF(OR($B19="",$K19=""),"",IF(AND($I19<$K19,$K19>0),ROUND($K19-$I19,3),0))
A20: 9 | B20: Масло индустриальное И-20А | C20: л | D20: =IF($B20="","",SUMIF(Движение!$D$12:$D$61,$B20,Движение!$I$12:$I$61)) | E20: =IF($B20="","",ROUND(SUMIF(Движение!$D$12:$D$61,$B20,Движение!$J$12:$J$61),2)) | F20: =IF(OR($B20="",$D20=0),"",ROUND($E20/$D20,2)) | G20: =IF($B20="","",SUMIF(Движение!$D$12:$D$61,$B20,Движение!$K$12:$K$61)) | H20: =IF($B20="","",SUMIF(Движение!$D$12:$D$61,$B20,Движение!$L$12:$L$61)) | I20: =IF($B20="","",ROUND($D20-$G20+$H20,3)) | J20: =IF(OR($B20="",$F20=""),"",ROUND($I20*$F20,2)) | K20: 150 | L20: =IF($B20="","",IF($I20<=0,"нет в наличии",IF($K20="","норма",IF($I20<$K20,"ниже минимума","норма")))) | M20: =IF(OR($B20="",$K20=""),"",IF(AND($I20<$K20,$K20>0),ROUND($K20-$I20,3),0))
A21: 10 | B21: Провод ПВ3 2,5 | C21: м | D21: =IF($B21="","",SUMIF(Движение!$D$12:$D$61,$B21,Движение!$I$12:$I$61)) | E21: =IF($B21="","",ROUND(SUMIF(Движение!$D$12:$D$61,$B21,Движение!$J$12:$J$61),2)) | F21: =IF(OR($B21="",$D21=0),"",ROUND($E21/$D21,2)) | G21: =IF($B21="","",SUMIF(Движение!$D$12:$D$61,$B21,Движение!$K$12:$K$61)) | H21: =IF($B21="","",SUMIF(Движение!$D$12:$D$61,$B21,Движение!$L$12:$L$61)) | I21: =IF($B21="","",ROUND($D21-$G21+$H21,3)) | J21: =IF(OR($B21="",$F21=""),"",ROUND($I21*$F21,2)) | K21: 300 | L21: =IF($B21="","",IF($I21<=0,"нет в наличии",IF($K21="","норма",IF($I21<$K21,"ниже минимума","норма")))) | M21: =IF(OR($B21="",$K21=""),"",IF(AND($I21<$K21,$K21>0),ROUND($K21-$I21,3),0))
D22: =IF($B22="","",SUMIF(Движение!$D$12:$D$61,$B22,Движение!$I$12:$I$61)) | E22: =IF($B22="","",ROUND(SUMIF(Движение!$D$12:$D$61,$B22,Движение!$J$12:$J$61),2)) | F22: =IF(OR($B22="",$D22=0),"",ROUND($E22/$D22,2)) | G22: =IF($B22="","",SUMIF(Движение!$D$12:$D$61,$B22,Движение!$K$12:$K$61)) | H22: =IF($B22="","",SUMIF(Движение!$D$12:$D$61,$B22,Движение!$L$12:$L$61)) | I22: =IF($B22="","",ROUND($D22-$G22+$H22,3)) | J22: =IF(OR($B22="",$F22=""),"",ROUND($I22*$F22,2)) | L22: =IF($B22="","",IF($I22<=0,"нет в наличии",IF($K22="","норма",IF($I22<$K22,"ниже минимума","норма")))) | M22: =IF(OR($B22="",$K22=""),"",IF(AND($I22<$K22,$K22>0),ROUND($K22-$I22,3),0))
D23: =IF($B23="","",SUMIF(Движение!$D$12:$D$61,$B23,Движение!$I$12:$I$61)) | E23: =IF($B23="","",ROUND(SUMIF(Движение!$D$12:$D$61,$B23,Движение!$J$12:$J$61),2)) | F23: =IF(OR($B23="",$D23=0),"",ROUND($E23/$D23,2)) | G23: =IF($B23="","",SUMIF(Движение!$D$12:$D$61,$B23,Движение!$K$12:$K$61)) | H23: =IF($B23="","",SUMIF(Движение!$D$12:$D$61,$B23,Движение!$L$12:$L$61)) | I23: =IF($B23="","",ROUND($D23-$G23+$H23,3)) | J23: =IF(OR($B23="",$F23=""),"",ROUND($I23*$F23,2)) | L23: =IF($B23="","",IF($I23<=0,"нет в наличии",IF($K23="","норма",IF($I23<$K23,"ниже минимума","норма")))) | M23: =IF(OR($B23="",$K23=""),"",IF(AND($I23<$K23,$K23>0),ROUND($K23-$I23,3),0))
D24: =IF($B24="","",SUMIF(Движение!$D$12:$D$61,$B24,Движение!$I$12:$I$61)) | E24: =IF($B24="","",ROUND(SUMIF(Движение!$D$12:$D$61,$B24,Движение!$J$12:$J$61),2)) | F24: =IF(OR($B24="",$D24=0),"",ROUND($E24/$D24,2)) | G24: =IF($B24="","",SUMIF(Движение!$D$12:$D$61,$B24,Движение!$K$12:$K$61)) | H24: =IF($B24="","",SUMIF(Движение!$D$12:$D$61,$B24,Движение!$L$12:$L$61)) | I24: =IF($B24="","",ROUND($D24-$G24+$H24,3)) | J24: =IF(OR($B24="",$F24=""),"",ROUND($I24*$F24,2)) | L24: =IF($B24="","",IF($I24<=0,"нет в наличии",IF($K24="","норма",IF($I24<$K24,"ниже минимума","норма")))) | M24: =IF(OR($B24="",$K24=""),"",IF(AND($I24<$K24,$K24>0),ROUND($K24-$I24,3),0))
D25: =IF($B25="","",SUMIF(Движение!$D$12:$D$61,$B25,Движение!$I$12:$I$61)) | E25: =IF($B25="","",ROUND(SUMIF(Движение!$D$12:$D$61,$B25,Движение!$J$12:$J$61),2)) | F25: =IF(OR($B25="",$D25=0),"",ROUND($E25/$D25,2)) | G25: =IF($B25="","",SUMIF(Движение!$D$12:$D$61,$B25,Движение!$K$12:$K$61)) | H25: =IF($B25="","",SUMIF(Движение!$D$12:$D$61,$B25,Движение!$L$12:$L$61)) | I25: =IF($B25="","",ROUND($D25-$G25+$H25,3)) | J25: =IF(OR($B25="",$F25=""),"",ROUND($I25*$F25,2)) | L25: =IF($B25="","",IF($I25<=0,"нет в наличии",IF($K25="","норма",IF($I25<$K25,"ниже минимума","норма")))) | M25: =IF(OR($B25="",$K25=""),"",IF(AND($I25<$K25,$K25>0),ROUND($K25-$I25,3),0))
D26: =IF($B26="","",SUMIF(Движение!$D$12:$D$61,$B26,Движение!$I$12:$I$61)) | E26: =IF($B26="","",ROUND(SUMIF(Движение!$D$12:$D$61,$B26,Движение!$J$12:$J$61),2)) | F26: =IF(OR($B26="",$D26=0),"",ROUND($E26/$D26,2)) | G26: =IF($B26="","",SUMIF(Движение!$D$12:$D$61,$B26,Движение!$K$12:$K$61)) | H26: =IF($B26="","",SUMIF(Движение!$D$12:$D$61,$B26,Движение!$L$12:$L$61)) | I26: =IF($B26="","",ROUND($D26-$G26+$H26,3)) | J26: =IF(OR($B26="",$F26=""),"",ROUND($I26*$F26,2)) | L26: =IF($B26="","",IF($I26<=0,"нет в наличии",IF($K26="","норма",IF($I26<$K26,"ниже минимума","норма")))) | M26: =IF(OR($B26="",$K26=""),"",IF(AND($I26<$K26,$K26>0),ROUND($K26-$I26,3),0))
D27: =IF($B27="","",SUMIF(Движение!$D$12:$D$61,$B27,Движение!$I$12:$I$61)) | E27: =IF($B27="","",ROUND(SUMIF(Движение!$D$12:$D$61,$B27,Движение!$J$12:$J$61),2)) | F27: =IF(OR($B27="",$D27=0),"",ROUND($E27/$D27,2)) | G27: =IF($B27="","",SUMIF(Движение!$D$12:$D$61,$B27,Движение!$K$12:$K$61)) | H27: =IF($B27="","",SUMIF(Движение!$D$12:$D$61,$B27,Движение!$L$12:$L$61)) | I27: =IF($B27="","",ROUND($D27-$G27+$H27,3)) | J27: =IF(OR($B27="",$F27=""),"",ROUND($I27*$F27,2)) | L27: =IF($B27="","",IF($I27<=0,"нет в наличии",IF($K27="","норма",IF($I27<$K27,"ниже минимума","норма")))) | M27: =IF(OR($B27="",$K27=""),"",IF(AND($I27<$K27,$K27>0),ROUND($K27-$I27,3),0))
D28: =IF($B28="","",SUMIF(Движение!$D$12:$D$61,$B28,Движение!$I$12:$I$61)) | E28: =IF($B28="","",ROUND(SUMIF(Движение!$D$12:$D$61,$B28,Движение!$J$12:$J$61),2)) | F28: =IF(OR($B28="",$D28=0),"",ROUND($E28/$D28,2)) | G28: =IF($B28="","",SUMIF(Движение!$D$12:$D$61,$B28,Движение!$K$12:$K$61)) | H28: =IF($B28="","",SUMIF(Движение!$D$12:$D$61,$B28,Движение!$L$12:$L$61)) | I28: =IF($B28="","",ROUND($D28-$G28+$H28,3)) | J28: =IF(OR($B28="",$F28=""),"",ROUND($I28*$F28,2)) | L28: =IF($B28="","",IF($I28<=0,"нет в наличии",IF($K28="","норма",IF($I28<$K28,"ниже минимума","норма")))) | M28: =IF(OR($B28="",$K28=""),"",IF(AND($I28<$K28,$K28>0),ROUND($K28-$I28,3),0))
D29: =IF($B29="","",SUMIF(Движение!$D$12:$D$61,$B29,Движение!$I$12:$I$61)) | E29: =IF($B29="","",ROUND(SUMIF(Движение!$D$12:$D$61,$B29,Движение!$J$12:$J$61),2)) | F29: =IF(OR($B29="",$D29=0),"",ROUND($E29/$D29,2)) | G29: =IF($B29="","",SUMIF(Движение!$D$12:$D$61,$B29,Движение!$K$12:$K$61)) | H29: =IF($B29="","",SUMIF(Движение!$D$12:$D$61,$B29,Движение!$L$12:$L$61)) | I29: =IF($B29="","",ROUND($D29-$G29+$H29,3)) | J29: =IF(OR($B29="",$F29=""),"",ROUND($I29*$F29,2)) | L29: =IF($B29="","",IF($I29<=0,"нет в наличии",IF($K29="","норма",IF($I29<$K29,"ниже минимума","норма")))) | M29: =IF(OR($B29="",$K29=""),"",IF(AND($I29<$K29,$K29>0),ROUND($K29-$I29,3),0))
D30: =IF($B30="","",SUMIF(Движение!$D$12:$D$61,$B30,Движение!$I$12:$I$61)) | E30: =IF($B30="","",ROUND(SUMIF(Движение!$D$12:$D$61,$B30,Движение!$J$12:$J$61),2)) | F30: =IF(OR($B30="",$D30=0),"",ROUND($E30/$D30,2)) | G30: =IF($B30="","",SUMIF(Движение!$D$12:$D$61,$B30,Движение!$K$12:$K$61)) | H30: =IF($B30="","",SUMIF(Движение!$D$12:$D$61,$B30,Движение!$L$12:$L$61)) | I30: =IF($B30="","",ROUND($D30-$G30+$H30,3)) | J30: =IF(OR($B30="",$F30=""),"",ROUND($I30*$F30,2)) | L30: =IF($B30="","",IF($I30<=0,"нет в наличии",IF($K30="","норма",IF($I30<$K30,"ниже минимума","норма")))) | M30: =IF(OR($B30="",$K30=""),"",IF(AND($I30<$K30,$K30>0),ROUND($K30-$I30,3),0))
D31: =IF($B31="","",SUMIF(Движение!$D$12:$D$61,$B31,Движение!$I$12:$I$61)) | E31: =IF($B31="","",ROUND(SUMIF(Движение!$D$12:$D$61,$B31,Движение!$J$12:$J$61),2)) | F31: =IF(OR($B31="",$D31=0),"",ROUND($E31/$D31,2)) | G31: =IF($B31="","",SUMIF(Движение!$D$12:$D$61,$B31,Движение!$K$12:$K$61)) | H31: =IF($B31="","",SUMIF(Движение!$D$12:$D$61,$B31,Движение!$L$12:$L$61)) | I31: =IF($B31="","",ROUND($D31-$G31+$H31,3)) | J31: =IF(OR($B31="",$F31=""),"",ROUND($I31*$F31,2)) | L31: =IF($B31="","",IF($I31<=0,"нет в наличии",IF($K31="","норма",IF($I31<$K31,"ниже минимума","норма")))) | M31: =IF(OR($B31="",$K31=""),"",IF(AND($I31<$K31,$K31>0),ROUND($K31-$I31,3),0))
D32: =IF($B32="","",SUMIF(Движение!$D$12:$D$61,$B32,Движение!$I$12:$I$61)) | E32: =IF($B32="","",ROUND(SUMIF(Движение!$D$12:$D$61,$B32,Движение!$J$12:$J$61),2)) | F32: =IF(OR($B32="",$D32=0),"",ROUND($E32/$D32,2)) | G32: =IF($B32="","",SUMIF(Движение!$D$12:$D$61,$B32,Движение!$K$12:$K$61)) | H32: =IF($B32="","",SUMIF(Движение!$D$12:$D$61,$B32,Движение!$L$12:$L$61)) | I32: =IF($B32="","",ROUND($D32-$G32+$H32,3)) | J32: =IF(OR($B32="",$F32=""),"",ROUND($I32*$F32,2)) | L32: =IF($B32="","",IF($I32<=0,"нет в наличии",IF($K32="","норма",IF($I32<$K32,"ниже минимума","норма")))) | M32: =IF(OR($B32="",$K32=""),"",IF(AND($I32<$K32,$K32>0),ROUND($K32-$I32,3),0))
D33: =IF($B33="","",SUMIF(Движение!$D$12:$D$61,$B33,Движение!$I$12:$I$61)) | E33: =IF($B33="","",ROUND(SUMIF(Движение!$D$12:$D$61,$B33,Движение!$J$12:$J$61),2)) | F33: =IF(OR($B33="",$D33=0),"",ROUND($E33/$D33,2)) | G33: =IF($B33="","",SUMIF(Движение!$D$12:$D$61,$B33,Движение!$K$12:$K$61)) | H33: =IF($B33="","",SUMIF(Движение!$D$12:$D$61,$B33,Движение!$L$12:$L$61)) | I33: =IF($B33="","",ROUND($D33-$G33+$H33,3)) | J33: =IF(OR($B33="",$F33=""),"",ROUND($I33*$F33,2)) | L33: =IF($B33="","",IF($I33<=0,"нет в наличии",IF($K33="","норма",IF($I33<$K33,"ниже минимума","норма")))) | M33: =IF(OR($B33="",$K33=""),"",IF(AND($I33<$K33,$K33>0),ROUND($K33-$I33,3),0))
... D41: =IF($B41="","",SUMIF(Движение!$D$12:$D$61,$B41,Движение!$I$12:$I$61)) | E41: =IF($B41="","",ROUND(SUMIF(Движение!$D$12:$D$61,$B41,Движение!$J$12:$J$61),2)) | F41: =IF(OR($B41="",$D41=0),"",ROUND($E41/$D41,2)) | G41: =IF($B41="","",SUMIF(Движение!$D$12:$D$61,$B41,Движение!$K$12:$K$61)) | H41: =IF($B41="","",SUMIF(Движение!$D$12:$D$61,$B41,Движение!$L$12:$L$61)) | I41: =IF($B41="","",ROUND($D41-$G41+$H41,3)) | J41: =IF(OR($B41="",$F41=""),"",ROUND($I41*$F41,2)) | L41: =IF($B41="","",IF($I41<=0,"нет в наличии",IF($K41="","норма",IF($I41<$K41,"ниже минимума","норма")))) | M41: =IF(OR($B41="",$K41=""),"",IF(AND($I41<$K41,$K41>0),ROUND($K41-$I41,3),0))
B43: ИТОГО | E43: =ROUND(SUM($E$12:$E$41),2) | J43: =ROUND(SUM($J$12:$J$41),2)
B44: Позиций ниже минимума / нет в наличии | D44: =COUNTIF($L$12:$L$41,"ниже минимума") | E44: =COUNTIF($L$12:$L$41,"нет в наличии")
B46: Количества по разным номенклатурам не суммируются — у них разные единицы измерения. В итоге складываются только деньги: сумма прихода и стоимость остатка. Колонка «Заказать» показывает, сколько не хватает до минимума.

Sheet Справочники
B2: СПРАВОЧНИКИ
B3: Операции для выпадающего поля, единицы измерения и единый список номенклатуры.
B4: Операция | D4: Единица измерения | F4: Номенклатура
B5: Приход | D5: шт. | F5: Лист стальной 2 мм
B6: Расход | D6: кг | F6: Труба профильная 40×40
B7: Инвентаризация | D7: т | F7: Круг стальной Ø20
D8: м | F8: Электроды УОНИ-13/55
D9: м² | F9: Грунт-эмаль по металлу
D10: м³ | F10: Подшипник 6205
D11: л | F11: Крепёж М8 (болт)
D12: пог. м | F12: Прокладка паронитовая
D13: компл. | F13: Масло индустриальное И-20А
D14: упак. | F14: Провод ПВ3 2,5
D15: рулон
D16: лист
D17: мешок
D18: канистра
D19: паллета
B21: Названия номенклатуры должны совпадать в журнале и на листе «Остатки» символ в символ: остатки считаются по точному совпадению. Удобнее всего копировать название из этого списка.

Sheet Инструкция
B2: КАК ПОЛЬЗОВАТЬСЯ ШАБЛОНОМ
B4: Шаг 1. Заполните журнал операций
B5: На листе «Движение» по каждой операции укажите дату, документ, тип операции, номенклатуру, единицу измерения, количество и цену. Сумма посчитается сама.
B6: Шаг 2. Выбирайте операцию из списка
B7: Операция определяет, как движение попадёт в остатки: приход прибавляется, расход вычитается, инвентаризация корректирует остаток. Если тип операции не выбран, строка не попадёт в расчёт — это главная причина расхождений.
B8: Шаг 3. Внесите номенклатуру
B9: На листе «Остатки» впишите наименования, по которым нужно видеть остаток, и минимальный запас. Всё остальное подтянется из журнала.
B10: Шаг 4. Смотрите статусы
B11: Статус сравнивает остаток с минимумом: «ниже минимума» — пора заказывать, «нет в наличии» — остаток нулевой или отрицательный. Отрицательный остаток означает, что расход внесён больше прихода: либо не внесли приход, либо ошиблись в количестве.
B12: Шаг 5. Ведите инвентаризацию разницей
B13: При пересчёте не правьте прошлые документы: внесите операцию «Инвентаризация» с разницей. Плюс — излишек, минус — недостача. Тогда история остаётся историей, а остаток становится фактическим.
B14: Шаг 6. Планируйте закупку
... B19: Шаблон ведёт количественный и стоимостной учёт по одному складу в управленческих целях. Он не заменяет складской учёт в учётной системе: там партии, серии, сроки годности, ордерный учёт и проводки. Если номенклатура измеряется десятками тысяч позиций и движение идёт каждый час, это уже задача системы, а не таблицы.
